BEGIN:VCALENDAR
VERSION:2.0
PRODID:-//County Fair Grounds - Washington County Virginia - ECPv6.0.10//NONSGML v1.0//EN
CALSCALE:GREGORIAN
METHOD:PUBLISH
X-ORIGINAL-URL:https://festive-ride.23-21-104-46.plesk.page
X-WR-CALDESC:Events for County Fair Grounds - Washington County Virginia
REFRESH-INTERVAL;VALUE=DURATION:PT1H
X-Robots-Tag:noindex
X-PUBLISHED-TTL:PT1H
BEGIN:VTIMEZONE
TZID:UTC
BEGIN:STANDARD
TZOFFSETFROM:+0000
TZOFFSETTO:+0000
TZNAME:UTC
DTSTART:20190101T000000
END:STANDARD
END:VTIMEZONE
BEGIN:VEVENT
DTSTART;TZID=UTC:20190531T080000
DTEND;TZID=UTC:20190601T130000
DTSTAMP:20260421T114013
CREATED:20180924T143731Z
LAST-MODIFIED:20190425T154121Z
UID:5560-1559289600-1559394000@festive-ride.23-21-104-46.plesk.page
SUMMARY:Washington County Fair Grounds  Yard Sale
DESCRIPTION: \nCLICK HERE FOR EXHIBITOR APPLICATION
URL:https://festive-ride.23-21-104-46.plesk.page/event/washington-county-fair-grounds-semi-annual-yard-sale/
LOCATION:VA
END:VEVENT
END:VCALENDAR